BEGIN:VCALENDAR
VERSION:2.0
PRODID:-//Freiwillige Feuerwehr Oelsa//NONSGML kigkonsult.se iCalcreator 2.
 30.10//
CALSCALE:GREGORIAN
METHOD:PUBLISH
UID:b63e45e9-6943-4905-865a-0111b20486c6
X-WR-CALNAME:iCagenda
X-WR-CALDESC:Event Management Extension for Joomla!
X-WR-RELCALID:3E26604A-50F4-4449-8B3E-E4F4932D05B5
X-WR-TIMEZONE:Europe/Berlin
BEGIN:VTIMEZONE
TZID:Europe/Berlin
BEGIN:STANDARD
TZNAME:CET
DTSTART:20241027T030000
TZOFFSETFROM:+0200
TZOFFSETTO:+0100
RDATE:20251026T030000
END:STANDARD
BEGIN:DAYLIGHT
TZNAME:CEST
DTSTART:20240331T020000
TZOFFSETFROM:+0100
TZOFFSETTO:+0200
RDATE:20250330T020000
RDATE:20260329T020000
END:DAYLIGHT
END:VTIMEZONE
BEGIN:VEVENT
UID:d750a8a7-b874-434d-83ec-07c6ab637bbf
DTSTAMP:20260423T182643Z
CATEGORIES:Veranstaltungen Feuerwehr
CLASS:PUBLIC
DESCRIPTION:
DTSTART:20241222T150000Z
DTEND:20241222T150000Z
GEO:00;0
LOCATION:Stadtgebiet Rabenau
ORGANIZER:
SEQUENCE:1
SUMMARY:Lichterglanz der Feuerwehren der Stadt Rabenau
TRANSP:OPAQUE
URL:https://feuerwehroelsa.de/component/icagenda/22-lichterfahrt-der-feuerw
 ehren-rabenau-2/2024-12-22-16-00
END:VEVENT
END:VCALENDAR
