BEGIN:VCALENDAR
VERSION:2.0
PRODID:-//Freiwillige Feuerwehr Oelsa//NONSGML kigkonsult.se iCalcreator 2.
 30.10//
CALSCALE:GREGORIAN
METHOD:PUBLISH
UID:98fdad14-ce19-4830-b26e-135c62fb75f7
X-WR-CALNAME:iCagenda
X-WR-CALDESC:Event Management Extension for Joomla!
X-WR-RELCALID:3E26604A-50F4-4449-8B3E-E4F4932D05B5
X-WR-TIMEZONE:Europe/Berlin
BEGIN:VTIMEZONE
TZID:Europe/Berlin
BEGIN:STANDARD
TZNAME:CET
DTSTART:20241027T030000
TZOFFSETFROM:+0200
TZOFFSETTO:+0100
RDATE:20251026T030000
RDATE:20261025T030000
END:STANDARD
BEGIN:DAYLIGHT
TZNAME:CEST
DTSTART:20250330T020000
TZOFFSETFROM:+0100
TZOFFSETTO:+0200
RDATE:20260329T020000
END:DAYLIGHT
END:VTIMEZONE
BEGIN:VEVENT
UID:672df6b9-7f57-4cc4-9389-59a5be1f88c9
DTSTAMP:20260424T102205Z
CATEGORIES:Veranstaltungen
CLASS:PUBLIC
DESCRIPTION:
DTSTART:20250430T160000Z
DTEND:20250430T160000Z
GEO:00;0
LOCATION:Oelsa
ORGANIZER:
SEQUENCE:1
SUMMARY:18. Oelsaer Maibaumfest
TRANSP:OPAQUE
URL:https://feuerwehroelsa.de/component/icagenda/3-termin-maibaumsetzen/202
 5-04-30-18-00
END:VEVENT
END:VCALENDAR
