BEGIN:VCALENDAR
VERSION:2.0
PRODID:-//Freiwillige Feuerwehr Oelsa//NONSGML kigkonsult.se iCalcreator 2.
 30.10//
CALSCALE:GREGORIAN
METHOD:PUBLISH
UID:340d4744-0591-4665-96b3-5313f888b631
X-WR-CALNAME:iCagenda
X-WR-CALDESC:Event Management Extension for Joomla!
X-WR-RELCALID:3E26604A-50F4-4449-8B3E-E4F4932D05B5
X-WR-TIMEZONE:Europe/Berlin
BEGIN:VTIMEZONE
TZID:Europe/Berlin
BEGIN:STANDARD
TZNAME:CET
DTSTART:20251026T030000
TZOFFSETFROM:+0200
TZOFFSETTO:+0100
RDATE:20261025T030000
END:STANDARD
BEGIN:DAYLIGHT
TZNAME:CEST
DTSTART:20250330T020000
TZOFFSETFROM:+0100
TZOFFSETTO:+0200
RDATE:20260329T020000
RDATE:20270328T020000
END:DAYLIGHT
END:VTIMEZONE
BEGIN:VEVENT
UID:1c0d5cd3-29ab-429b-b135-388efe94708e
DTSTAMP:20260420T160958Z
CATEGORIES:Veranstaltungen Feuerwehr
CLASS:PUBLIC
DESCRIPTION;ALTREP="CID:<FFFF__=0ABBE548DFE235B58f9e8a93d@coffeebean.com>":
 Erster Ausbildungsdienst im neuen Jahr.
DTSTART:20260107T183000Z
DTEND:20260107T183000Z
GEO:00;0
LOCATION:Oelsa\, Hauptstr. 52b
ORGANIZER:
SEQUENCE:1
SUMMARY:1. Ausbildungsdienst der Feuerwehr Oelsa
TRANSP:OPAQUE
URL:https://feuerwehroelsa.de/component/icagenda/24-1-ausbildungsdienst-der
 -feuerwehr-oelsa/2026-01-07-19-30
END:VEVENT
END:VCALENDAR
