BEGIN:VCALENDAR
VERSION:2.0
PRODID:-//Freiwillige Feuerwehr Oelsa//NONSGML kigkonsult.se iCalcreator 2.
 30.10//
CALSCALE:GREGORIAN
METHOD:PUBLISH
UID:7d76ef34-2140-4024-8aa1-ac5afc18ae9d
X-WR-CALNAME:iCagenda
X-WR-CALDESC:Event Management Extension for Joomla!
X-WR-RELCALID:3E26604A-50F4-4449-8B3E-E4F4932D05B5
X-WR-TIMEZONE:Europe/Berlin
BEGIN:VTIMEZONE
TZID:Europe/Berlin
BEGIN:STANDARD
TZNAME:CET
DTSTART:20231029T030000
TZOFFSETFROM:+0200
TZOFFSETTO:+0100
RDATE:20241027T030000
RDATE:20251026T030000
END:STANDARD
BEGIN:DAYLIGHT
TZNAME:CEST
DTSTART:20240331T020000
TZOFFSETFROM:+0100
TZOFFSETTO:+0200
RDATE:20250330T020000
END:DAYLIGHT
END:VTIMEZONE
BEGIN:VEVENT
UID:fcaae0b3-80d4-4d26-bac4-528433e7e1c4
DTSTAMP:20260420T141006Z
CATEGORIES:Veranstaltungen Feuerwehr
CLASS:PUBLIC
DESCRIPTION;ALTREP="CID:<FFFF__=0ABBE548DFE235B58f9e8a93d@coffeebean.com>":
 Die Deutsche Jugendfeuerwehr feiert vor der einzigartigen Kulisse der säch
 sischen Landeshauptstadt den Jugendfeuerwehrtag 2024 und zusätzlich ihren 
 60. Geburtstag.
DTSTART:20240907T145300Z
DTEND:20240907T145300Z
GEO:00;0
LOCATION:Dresden
ORGANIZER:
SEQUENCE:1
SUMMARY:Jugendfeuerwehrtag
TRANSP:OPAQUE
URL:https://feuerwehroelsa.de/component/icagenda/21-jugendfeuerwehrtag/2024
 -09-07-16-53
END:VEVENT
END:VCALENDAR
